BEGIN:VCALENDAR
VERSION:2.0
PRODID:-//Covalent Logic//Content Management System//EN
BEGIN:VEVENT
UID:1776878802624.COVALENTLOGIC.COM
DTSTART:20210506T203000Z
DTEND:20210506T233000Z
SUMMARY:Pitkin Fire Station - Vernon Parish Vaccine Event (Moderna)
LOCATION:Pitkin Fire Station, 12778 Hwy 10, Pitkin, LA
DESCRIPTION:
PRIORITY:5
END:VEVENT
END:VCALENDAR