BEGIN:VCALENDAR
VERSION:2.0
PRODID:-//Covalent Logic//Content Management System//EN
BEGIN:VEVENT
UID:1776623349439.COVALENTLOGIC.COM
DTSTART:20210503T140000Z
DTEND:20210503T210000Z
SUMMARY:South Baton Rouge Church of Christ - East Baton Rouge Parish (Moderna)
LOCATION:South Baton Rouge Church of Christ, 8725 Jefferson Highway, Baton Rouge, LA 70809
DESCRIPTION:
PRIORITY:5
END:VEVENT
END:VCALENDAR