BEGIN:VCALENDAR
VERSION:2.0
PRODID:-//Covalent Logic//Content Management System//EN
BEGIN:VEVENT
UID:1776942070166.COVALENTLOGIC.COM
DTSTART:20210508T160000Z
DTEND:20210508T190000Z
SUMMARY:Cypress Bayou Casino - St. Mary Parish Vaccine Event (Moderna and Johnson & Johnson)
LOCATION:Cypress Bayou Casino, 832 Martin Luther King Blvd., Charenton, LA
DESCRIPTION:
PRIORITY:5
END:VEVENT
END:VCALENDAR