BEGIN:VCALENDAR
VERSION:2.0
PRODID:-//Covalent Logic//Content Management System//EN
BEGIN:VEVENT
UID:1777075562989.COVALENTLOGIC.COM
DTSTART:20210508T050000Z
DTEND:20210509T045959Z
SUMMARY:Glen Oaks Middle School - East Baton Rouge Parish Vaccine Event (Pfizer)
LOCATION:Glen Oaks Middle School, 5300 Monarch Ave, Baton Rouge, LA 70811
DESCRIPTION:
PRIORITY:5
END:VEVENT
END:VCALENDAR