BEGIN:VCALENDAR
VERSION:2.0
PRODID:-//Covalent Logic//Content Management System//EN
BEGIN:VEVENT
UID:1776878802122.COVALENTLOGIC.COM
DTSTART:20210507T170000Z
DTEND:20210507T210000Z
SUMMARY:Fritchie Park - St. Tammany Parish Vaccine Event (Johnson & Johnson)
LOCATION:Fritchie Park, 905 W. Howze Beach Rd, Slidell, LA 70458
DESCRIPTION:
PRIORITY:5
END:VEVENT
END:VCALENDAR