BEGIN:VCALENDAR
VERSION:2.0
PRODID:-//Covalent Logic//Content Management System//EN
BEGIN:VEVENT
UID:1776658607149.COVALENTLOGIC.COM
DTSTART:20210506T150000Z
DTEND:20210506T190000Z
SUMMARY:French Settlement Town Hall - Livingston Parish Vaccine Event (Moderna)
LOCATION:French Settlement Town Hall, 16015 Hwy. 16, French Settlement 70733
DESCRIPTION:
PRIORITY:5
END:VEVENT
END:VCALENDAR