BEGIN:VCALENDAR
VERSION:2.0
PRODID:-//Covalent Logic//Content Management System//EN
BEGIN:VEVENT
UID:1776878801621.COVALENTLOGIC.COM
DTSTART:20210602T150000Z
DTEND:20210602T190000Z
SUMMARY:Lifeshare Blood Center - Calcasieu Parish Vaccine Event (Moderna)
LOCATION:Lifeshare Blood Center, 214 Dr. Michael DeBakey Drive, Lake Charles 70601
DESCRIPTION:
PRIORITY:5
END:VEVENT
END:VCALENDAR