BEGIN:VCALENDAR
VERSION:2.0
PRODID:-//Covalent Logic//Content Management System//EN
BEGIN:VEVENT
UID:1776788949478.COVALENTLOGIC.COM
DTSTART:20210507T133000Z
DTEND:20210507T160000Z
SUMMARY:New Hope Baptist Church - Orleans Parish Vaccine Event (Pfizer)
LOCATION:New Hope Baptist Church, 1807 Reverend John Raphael Jr Way, New Orleans 70113
DESCRIPTION:
PRIORITY:5
END:VEVENT
END:VCALENDAR