BEGIN:VCALENDAR
VERSION:2.0
PRODID:-//Covalent Logic//Content Management System//EN
BEGIN:VEVENT
UID:1776813315225.COVALENTLOGIC.COM
DTSTART:20210508T160000Z
DTEND:20210509T010000Z
SUMMARY:Mall of Louisiana - East Baton Rouge Parish Vaccine Event (Pfizer)
LOCATION:Mall of Louisiana,	6401 Bluebonnet Blvd., Baton Rouge 70836
DESCRIPTION:
PRIORITY:5
END:VEVENT
END:VCALENDAR