BEGIN:VCALENDAR
VERSION:2.0
PRODID:-//Covalent Logic//Content Management System//EN
BEGIN:VEVENT
UID:1776797471558.COVALENTLOGIC.COM
DTSTART:20210511T150000Z
DTEND:20210511T230000Z
SUMMARY:LSUHSC North - Caddo Parish Vaccine Event (Pfizer or Moderna)
LOCATION:LSUHSC North, 2627 Linwood Ave., Shreveport 71103
DESCRIPTION:
PRIORITY:5
END:VEVENT
END:VCALENDAR