BEGIN:VCALENDAR
VERSION:2.0
PRODID:-//Covalent Logic//Content Management System//EN
BEGIN:VEVENT
UID:1776952694946.COVALENTLOGIC.COM
DTSTART:20210506T180000Z
DTEND:20210506T200000Z
SUMMARY:North Caddo High School - Caddo Parish Vaccine Event (Pfizer)
LOCATION:North Caddo High School, 201 Airport Drive, Vivan 71082
DESCRIPTION:
PRIORITY:5
END:VEVENT
END:VCALENDAR