BEGIN:VCALENDAR
VERSION:2.0
PRODID:-//Covalent Logic//Content Management System//EN
BEGIN:VEVENT
UID:1776730861521.COVALENTLOGIC.COM
DTSTART:20210508T140000Z
DTEND:20210508T180000Z
SUMMARY:Wesley Chapel Christian Methodist - Bossier Parish Vaccine Event (Pfizer)
LOCATION:Wesley Chapel Christian Methodist , 6018 US 80, Princeton 71067
DESCRIPTION:
PRIORITY:5
END:VEVENT
END:VCALENDAR