BEGIN:VCALENDAR
VERSION:2.0
PRODID:-//Covalent Logic//Content Management System//EN
BEGIN:VEVENT
UID:1776923074240.COVALENTLOGIC.COM
DTSTART:20231118T150000Z
DTEND:20231118T190000Z
SUMMARY:Men's Health Expo 2023
LOCATION:Louisiana Leadership Institute, 5763 Hooper Road, Baton Rouge
DESCRIPTION:
PRIORITY:5
END:VEVENT
END:VCALENDAR