BEGIN:VCALENDAR
VERSION:2.0
PRODID:-//Covalent Logic//Content Management System//EN
BEGIN:VEVENT
UID:1776788906330.COVALENTLOGIC.COM
DTSTART:20240425T133000Z
DTEND:20240425T223000Z
SUMMARY:NOLA Collegiate Public Health Conference
LOCATION:Xavier University Convocation Center 7900 Stroelitz St, New Orleans, LA 70125
DESCRIPTION:
PRIORITY:5
END:VEVENT
END:VCALENDAR