BEGIN:VCALENDAR
VERSION:2.0
PRODID:-//Covalent Logic//Content Management System//EN
BEGIN:VEVENT
UID:1776725050807.COVALENTLOGIC.COM
DTSTART:20260310T130000Z
DTEND:20260310T193000Z
SUMMARY:Evangeline Parish Preliminary Fitness Meet
LOCATION:Basile High School, 2835 2nd Street, Basile, LA 70515
DESCRIPTION:
PRIORITY:5
END:VEVENT
END:VCALENDAR