BEGIN:VCALENDAR
VERSION:2.0
PRODID:-//Covalent Logic//Content Management System//EN
BEGIN:VEVENT
UID:1777075561376.COVALENTLOGIC.COM
DTSTART:20260516T130000Z
DTEND:20260517T220000Z
SUMMARY:Boys Basketball
LOCATION:Governor's Games Boys Basketball, New Orleans, LA 
DESCRIPTION:
PRIORITY:5
END:VEVENT
END:VCALENDAR