BEGIN:VCALENDAR
VERSION:2.0
PRODID:-//Covalent Logic//Content Management System//EN
BEGIN:VEVENT
UID:1776778523216.COVALENTLOGIC.COM
DTSTART:20250924T183000Z
DTEND:20250924T210000Z
SUMMARY:State Employment Leadership Network (SELN) Onsite Employment Discussion
LOCATION:Iberville Building, Room 1-129, 627 N 4th Street, Baton Rouge, LA 70802
DESCRIPTION:
PRIORITY:5
END:VEVENT
END:VCALENDAR