BEGIN:VCALENDAR
VERSION:2.0
PRODID:-//Covalent Logic//Content Management System//EN
BEGIN:VEVENT
UID:1776753981173.COVALENTLOGIC.COM
DTSTART:20090328T140000Z
DTEND:20090329T045959Z
SUMMARY:CTUW-Northshore Mall-Slidell (Northshore)
LOCATION:150 Northshore Blvd.  Slidell,  LA
DESCRIPTION:
PRIORITY:5
END:VEVENT
END:VCALENDAR