BEGIN:VCALENDAR
VERSION:2.0
PRODID:-//Covalent Logic//Content Management System//EN
BEGIN:VEVENT
UID:1777161294948.COVALENTLOGIC.COM
DTSTART:20090811T150000Z
DTEND:20090812T045959Z
SUMMARY:St. Tammany Commission on Families
LOCATION:Office of Community Services- Covington
DESCRIPTION:
PRIORITY:5
END:VEVENT
END:VCALENDAR