BEGIN:VCALENDAR
VERSION:2.0
PRODID:-//Covalent Logic//Content Management System//EN
BEGIN:VEVENT
UID:1776743684966.COVALENTLOGIC.COM
DTSTART:20100406T130000Z
DTEND:20100407T045959Z
SUMMARY:Northshore-Washington Parish Health Unit-Bogalusa
LOCATION:Washington Parish Health Unit, 626 Caroline Avenue, Bogalus
DESCRIPTION:
PRIORITY:5
END:VEVENT
END:VCALENDAR