BEGIN:VCALENDAR
VERSION:2.0
PRODID:-//Covalent Logic//Content Management System//EN
BEGIN:VEVENT
UID:1776617076606.COVALENTLOGIC.COM
DTSTART:20100813T130000Z
DTEND:20100814T045959Z
SUMMARY:St. Landry - Opelousas Health Unit
LOCATION:Opelousas Health Unit, 308 West Bloch, Opelousas, LA 70570
DESCRIPTION:
PRIORITY:5
END:VEVENT
END:VCALENDAR