BEGIN:VCALENDAR
VERSION:2.0
PRODID:-//Covalent Logic//Content Management System//EN
BEGIN:VEVENT
UID:1777064931033.COVALENTLOGIC.COM
DTSTART:20101105T150000Z
DTEND:20101106T045959Z
SUMMARY:Olla: Hardtner Medical Center Health Fair
LOCATION:Hardtner Medical Center on US Hwy 165
DESCRIPTION:
PRIORITY:5
END:VEVENT
END:VCALENDAR