BEGIN:VCALENDAR
VERSION:2.0
PRODID:-//Covalent Logic//Content Management System//EN
BEGIN:VEVENT
UID:1776639071443.COVALENTLOGIC.COM
DTSTART:20220824T180000Z
DTEND:20220824T200000Z
SUMMARY:Coordinated System of Care (CSoC) Governance Board Meeting
LOCATION:Bienville Building, 628 N 4th Street, Baton Rouge, LA, LA 
DESCRIPTION:
PRIORITY:5
END:VEVENT
END:VCALENDAR