BEGIN:VCALENDAR
VERSION:2.0
PRODID:-//Covalent Logic//Content Management System//EN
BEGIN:VEVENT
UID:1776803040121.COVALENTLOGIC.COM
DTSTART:20210503T140000Z
DTEND:20210503T180000Z
SUMMARY:First Assembly of God - Winn Parish Vaccine Event
LOCATION:5693 Hwy 167, Winnfield, LA 71483
DESCRIPTION:
PRIORITY:5
END:VEVENT
END:VCALENDAR