BEGIN:VCALENDAR
VERSION:2.0
PRODID:-//Covalent Logic//Content Management System//EN
BEGIN:VEVENT
UID:1777067934358.COVALENTLOGIC.COM
DTSTART:20210504T143000Z
DTEND:20210505T000000Z
SUMMARY:Hispanic Apostolate - Jefferson Parish Vaccine Event (Moderna)
LOCATION:Hispanic Apostolate, 2525 Maine Ave., Metairie, LA 70003
DESCRIPTION:
PRIORITY:5
END:VEVENT
END:VCALENDAR